BEGIN:VCALENDAR
VERSION:2.0
PRODID:icalendar-ruby
CALSCALE:GREGORIAN
METHOD:PUBLISH
BEGIN:VEVENT
DTSTAMP:20260422T103446Z
UID:57-495059@moreheadumc.com
DTSTART:20260504T210000Z
DTEND:20260505T003000Z
CLASS:PUBLIC
CREATED:20260410T125600
DESCRIPTION:Mondays will be fundays again! We are very excited about our li
 neup this year with some new food trucks\, new talent\, and bigger bands! 
 Mark your calendars for every Monday in May at Morehead United Methodist C
 hurch!
LAST-MODIFIED:20260410T125600
LOCATION:Morehead UMC Church Outside Lawn
SUMMARY:Monday Music Block Party
URL;VALUE=URI:https://www.moreheadumc.com/events/monday-music-block-party--
 57/2026-05-04
ATTACH;FILENAME=ANN-Monday-Music1.png;FMTTYPE=image/png:https://dq5pwpg1q8r
 u0.cloudfront.net/2026/04/10/16/48/53/9a399362-081c-43e8-9ba7-36c059d5c96f
 /ANN-Monday-Music1.png
END:VEVENT
END:VCALENDAR
