BEGIN:VCALENDAR
VERSION:2.0
PRODID:icalendar-ruby
CALSCALE:GREGORIAN
METHOD:PUBLISH
BEGIN:VEVENT
DTSTAMP:20260419T232004Z
UID:8-515547@moreheadumc.com
DTSTART:20260607T203000Z
DTEND:20260607T223000Z
CLASS:PUBLIC
CREATED:20260419T160901
DESCRIPTION:
LAST-MODIFIED:20260419T160901
LOCATION:
SUMMARY:Youth Group
URL;VALUE=URI:https://www.moreheadumc.com/events/youth-group/2026-06-07
ATTACH;FILENAME=Ann-Video-Loop.png;FMTTYPE=image/png:https://dq5pwpg1q8ru0.
 cloudfront.net/2024/11/06/18/12/41/06c73e38-9a04-4f1b-bf60-e7f5ef07dfe3/An
 n-Video-Loop.png
END:VEVENT
END:VCALENDAR
