BEGIN:VCALENDAR
VERSION:2.0
PRODID:icalendar-ruby
CALSCALE:GREGORIAN
METHOD:PUBLISH
BEGIN:VEVENT
DTSTAMP:20260420T005528Z
UID:8-515935@moreheadumc.com
DTSTART:20260614T203000Z
DTEND:20260614T223000Z
CLASS:PUBLIC
CREATED:20260419T195131
DESCRIPTION:
LAST-MODIFIED:20260419T195131
LOCATION:
SUMMARY:Youth Group
URL;VALUE=URI:https://www.moreheadumc.com/events/youth-group/2026-06-14
ATTACH;FILENAME=Ann-Video-Loop.png;FMTTYPE=image/png:https://dq5pwpg1q8ru0.
 cloudfront.net/2024/11/06/18/12/41/06c73e38-9a04-4f1b-bf60-e7f5ef07dfe3/An
 n-Video-Loop.png
END:VEVENT
END:VCALENDAR
