BEGIN:VCALENDAR
VERSION:2.0
PRODID:icalendar-ruby
CALSCALE:GREGORIAN
METHOD:PUBLISH
BEGIN:VEVENT
DTSTAMP:20260420T072252Z
UID:8-516715@moreheadumc.com
DTSTART:20260712T203000Z
DTEND:20260712T223000Z
CLASS:PUBLIC
CREATED:20260420T030634
DESCRIPTION:
LAST-MODIFIED:20260420T030634
LOCATION:
SUMMARY:Youth Group
URL;VALUE=URI:https://www.moreheadumc.com/events/youth-group/2026-07-12
ATTACH;FILENAME=Ann-Video-Loop.png;FMTTYPE=image/png:https://dq5pwpg1q8ru0.
 cloudfront.net/2024/11/06/18/12/41/06c73e38-9a04-4f1b-bf60-e7f5ef07dfe3/An
 n-Video-Loop.png
END:VEVENT
END:VCALENDAR
